BEGIN:VCALENDAR
VERSION:2.0
PRODID:-//APP Brasil - ECPv6.15.17.1//NONSGML v1.0//EN
CALSCALE:GREGORIAN
METHOD:PUBLISH
X-ORIGINAL-URL:https://appbrasil.org.br
X-WR-CALDESC:Eventos para APP Brasil
REFRESH-INTERVAL;VALUE=DURATION:PT1H
X-Robots-Tag:noindex
X-PUBLISHED-TTL:PT1H
BEGIN:VTIMEZONE
TZID:America/Sao_Paulo
BEGIN:STANDARD
TZOFFSETFROM:-0300
TZOFFSETTO:-0300
TZNAME:-03
DTSTART:20240101T000000
END:STANDARD
END:VTIMEZONE
BEGIN:VEVENT
DTSTART;TZID=America/Sao_Paulo:20250508T190000
DTEND;TZID=America/Sao_Paulo:20250508T220000
DTSTAMP:20260421T050900
CREATED:20250506T221641Z
LAST-MODIFIED:20250514T161745Z
UID:31757-1746730800-1746741600@appbrasil.org.br
SUMMARY:Marketing Day - APP Vale
DESCRIPTION:Em comemoração ao Dia do Marketing\, a APP Vale realiza no próximo dia 08 o Marketing Day 2025\, um encontro voltado a profissionais da área\, estudantes universitários e alunos de cursos técnicos de nível médio. O evento\, que acontecerá a partir das 19h\, trará palestras com especialistas renomados para discutir as principais inovações\, desafios e tendências do marketing contemporâneo. \nA programação começa com a abertura oficial da APP Vale às 19h. Em seguida\, Adriana Carvalho\, referência em Trade Marketing e criadora do método NR2B\, abre a rodada de palestras com o tema “O futuro do marketing chegou e ele é inteligente: o poder da IA nas organizações”. Adriana possui ampla formação acadêmica e experiência em gestão estratégica\, marketing e otimização de processos. \nÀs 19h55\, o palco será de Leandro Bilac\, gerente de Marketing no Parque de Inovação Tecnológica de São José dos Campos (PIT SJC). Com sólida trajetória em comunicação institucional e estratégia de marca\, Leandro falará sobre “Jornada de experiência”\, explorando a integração entre comunicação e negócios. \nFechando o ciclo de apresentações\, às 20h35\, Bruna Silva\, Analista de Marketing Sênior na AD Shopping – Shopping Pátio Pinda\, abordará o tema “Desafios do marketing na retomada pós-pandemia em shopping center”. Com passagens por campanhas promocionais\, planejamento estratégico e gestão de agências\, Bruna trará insights práticos sobre a realidade do setor de varejo. \nApós as apresentações\, o público poderá interagir com os palestrantes em um espaço destinado a perguntas e discussões\, das 20h35 às 21h30. \nO Marketing Day 2025 é uma excelente oportunidade para troca de experiências\, networking e atualização profissional sobre o que há de mais atual no universo do marketing. \nO evento é gratuito e as inscrições podem ser feitas por este link: https://www.even3.com.br/marketing-day-564092 \nSERVIÇO\nEvento: Marketing Day 2025\nData: 08/05/2025\nHorário: A partir das 19h\nLocal: Auditório da Anhanguera Taubaté\nPúblico-alvo: Profissionais de marketing\, estudantes universitários e técnicos\nRealização: APP Vale
URL:https://appbrasil.org.br/event/marketing-day-app-vale/
LOCATION:Auditório da Anhanguera Taubaté\, Av. Charles Schnneider\, 585 - Parque Sr. do Bonfim\, Taubaté\, São Paulo\, 12040-000\, Brazil
CATEGORIES:Evento
ATTACH;FMTTYPE=image/jpeg:https://appbrasil.org.br/wp-content/uploads/2025/05/mktday_sq.jpg
END:VEVENT
BEGIN:VEVENT
DTSTART;TZID=America/Sao_Paulo:20250510T083000
DTEND;TZID=America/Sao_Paulo:20250510T163000
DTSTAMP:20260421T050900
CREATED:20250407T153806Z
LAST-MODIFIED:20250724T132945Z
UID:31492-1746865800-1746894600@appbrasil.org.br
SUMMARY:Fest'Up Marília
DESCRIPTION:O Fest’Up\, evento organizado pela APP Brasil\, é reconhecido como um dos maiores encontros de comunicação do país. Há quase 40 anos\, reúne os principais profissionais do mercado para compartilhar conhecimento\, tendências e experiências com estudantes e futuros talentos da área. Em 2025\, o evento segue expandindo suas fronteiras e\, pela primeira vez\, desembarca em Marília\, São Paulo!\n\nNo dia 10 de maio\, das 8h30 às 16h\, a Unimar – Universidade de Marília será palco dessa edição inédita\, reunindo grandes líderes do mercado publicitário\, criativo e digital para uma jornada imersiva de aprendizado e networking. Será um dia de troca de insights\, inspiração e conexões valiosas\, permitindo que os participantes conheçam as principais tendências\, desafios e inovações do setor.\n\nO Fest’UP Marília faz parte desse movimento de expansão do tradicional evento realizado anualmente em São Paulo\, que\, em 2024\, contou com mais de 100 palestrantes e 1.500 estudantes universitários reunidos nas renomadas instituições ESPM e Belas Artes. Agora\, essa experiência transformadora chega ao interior paulista\, proporcionando a mesma qualidade de conteúdo e interação para um novo público.\n\nQuando e onde?\n10 de maio\, das 8h30 às 16h.\nUnimar – Universidade de Marília\n\nAvenida Hygino Muzzy Filho\, 1001 – Marília-SP.\n\n\nSe você quer expandir sua rede de contatos\, aprender com os melhores do mercado e se preparar para os desafios da comunicação contemporânea\, o Fest’UP Marília é a oportunidade perfeita. Não fique de fora dessa experiência única!\n\nIngressos à venda!\nEM BREVE: programação e presenças confirmadas.\n \nRealização:\nAPP Brasil\nApoio:\nUnimar – Universidade de Marília\nGlobo\nAnamid\nABMRA
URL:https://appbrasil.org.br/event/festup-marilia/
LOCATION:Unimar – Universidade de Marília\, Avenida Hygino Muzzy Filho\, 1001\, Marília\, São Paulo\, 17526-671\, Brazil
CATEGORIES:Evento
ATTACH;FMTTYPE=image/png:https://appbrasil.org.br/wp-content/uploads/2025/04/cover_evento_marilia.png
END:VEVENT
BEGIN:VEVENT
DTSTART;TZID=America/Sao_Paulo:20250517T083000
DTEND;TZID=America/Sao_Paulo:20250517T163000
DTSTAMP:20260421T050900
CREATED:20250407T154402Z
LAST-MODIFIED:20250724T132938Z
UID:31500-1747470600-1747499400@appbrasil.org.br
SUMMARY:Fest'Up Franca
DESCRIPTION:O Fest’Up\, evento organizado pela APP Brasil\, é reconhecido como um dos maiores encontros de comunicação do país. Há quase 40 anos\, reúne os principais profissionais do mercado para compartilhar conhecimento\, tendências e experiências com estudantes e futuros talentos da área. Em 2025\, o evento segue expandindo suas fronteiras e\, pela primeira vez\, desembarca em Franca\, SP! \nNo dia 17 de maio\, das 8h30 às 16h\, o Uni-FACEF – Centro Universitário de Franca será palco dessa edição inédita\, reunindo grandes líderes do mercado publicitário\, criativo e digital para uma jornada imersiva de aprendizado e networking. Será um dia de troca de insights\, inspiração e conexões valiosas\, permitindo que os participantes conheçam as principais tendências\, desafios e inovações do setor. \nO Fest’UP Franca faz parte desse movimento de expansão do tradicional evento realizado anualmente em São Paulo\, que\, em 2024\, contou com mais de 100 palestrantes e 1.500 estudantes universitários reunidos nas renomadas instituições ESPM e Belas Artes. Agora\, essa experiência transformadora chega ao interior paulista\, proporcionando a mesma qualidade de conteúdo e interação para um novo público. \nQuando e onde?\n17 de maio\, das 8h30 às 16h.\nUni-FACEF – Centro Universitário de Franca \nIngressos sociais \nA entrada será garantida mediante a doação de 2kg de alimento não perecível\, reforçando o compromisso do evento com a solidariedade e o impacto social. \nSe você quer expandir sua rede de contatos\, aprender com os melhores do mercado e se preparar para os desafios da comunicação contemporânea\, o Fest’UP Franca é a oportunidade perfeita. Não fique de fora dessa experiência única! \nNos vemos lá! \nEM BREVE: cronograma de palestras e convidados! \nRealização\nAPP Brasil\nUniFACEF – Centro Universitário de Franca \nApoio\nPrefeitura Municipal de Franca\nGlobo\nAnaMid\nABMRA
URL:https://appbrasil.org.br/event/festup-franca/
LOCATION:UniFACEF – Centro Universitário de Franca\, Av. Alonso Y Alonso\, 2400 - São José\, Franca\, São Paulo\, 14401-426\, Brazil
CATEGORIES:Evento
ATTACH;FMTTYPE=image/png:https://appbrasil.org.br/wp-content/uploads/2025/04/cover_evento_franca.png
END:VEVENT
END:VCALENDAR